BEGIN:VCALENDAR
VERSION:2.0
PRODID:-//wp-events-plugin.com//7.2.3.1//EN
BEGIN:VEVENT
UID:7318@hamburg-internet.de
DTSTART;TZID=Europe/Berlin:20260305T200000
DTEND;TZID=Europe/Berlin:20260305T233000
DTSTAMP:20260224T121819Z
URL:https://hamburg-internet.de/events/christian-kjellvander-band-swe-supp
 ort-felix-gebhard-tocotronic
SUMMARY:Christian Kjellvander & Band (SWE) / support: Felix Gebhard (Tocotr
 onic)
DESCRIPTION:[caption id="attachment_57429" align="alignnone" width="1000"] 
 Foto: David Moeller[/caption]\n\nCHRISTIAN KJELLVANDER\nEX VOTO / THE SILE
 NT LOVE&nbsp\;\n\nNach den gefeierten Alben About Love and Loving Again un
 d Hold Your Love Still kehrt Christian Kjellvander mit Ex Voto / The Silen
 t Love zurück – einem leise zerstörerischen und zutiefst intimen Werk\
 , das eine inoffizielle Trilogie vollendet\, die sich mit Liebe in ihren z
 artesten\, konfliktreichsten und spirituellsten Formen beschäftigt.\n\nUr
 sprünglich als Album mit zehn sanften\, ruhigen Country-Songs konzipiert\
 , entwickelte sich Ex Voto allmählich zu etwas weitreichenderem. Dennoch 
 bleibt der Keim dieser Absicht erhalten und pulsiert sanft unter jedem ein
 zelnen Track. Das Album beginnt mit zwei reduzierten Songs\, entwickelt si
 ch zu einem lauteren\, dynamischeren Mittelstück und driftet dann wieder 
 in Stille\, was die emotionale Reise seiner Entstehung widerspiegelt.\n\nW
 ie seine Vorgänger setzt Ex Voto die Erforschung von Themen wie Liebe\, R
 eligion\, der natürlichen Welt und Schönheit fort\, die Christian mit po
 etischer Präzision und emotionaler Tiefe angeht. Doch dieses Album geht t
 iefer. Es ist intimer\, roher. Christian war ein anderer\, als er zu schre
 iben begann\, und während der Mittelpunkt seiner Kunst konstant bleibt\, 
 färbt dieser persönliche Wandel das gesamte Album.\n\nAufgenommen an ein
 igen Tagen in einem alten Sommerhaus am Meer im südlichsten Teil Schweden
 s\, fängt das Album den Atem und die Stille eines Raumes ein\, in dem kei
 ne Kopfhörer nötig waren\, in dem die Vocals durch eine PA in den Raum d
 rangen und jedes Knarren der Dielen ein Teil des Klangs wurde. Die Gespens
 ter jeder Stimme und jedes Instruments durchziehen die Multitracks wie Gei
 ster\, die in einer tiefen Wüstennacht verweilen. Es ist romantisch und c
 ineastisch\, eine Art kleiner urbaner Noir-Film\, der vom texanischen Hint
 erland an die schwedische Küste transponiert wurde.\n\nIm Herzen des Albu
 ms steht Kjellvanders tiefe\, ausdrucksstarke Baritonstimme und lyrische K
 larheit\, umgeben von einer sparsamen\, aber reichhaltig texturierten Klan
 gpalette: Bürstenschlagzeug\, Bassklarinette\, klagende Kornett\, Rhodes\
 , Synthesizer und der eindringliche Kontrapunkt der weiblichen Vocals.\n\n
 Von der geisterhaften Intimität von Love of Another bis zum stürmischen 
 Crescendo von Deathrider bewegt sich das Album mit Geduld und Zielstrebigk
 eit. Songs wie God Simple und It Can Heal If You Let It gleiten in langsam
 en Grooves zu emotionaler Katharsis\, während The View Is Watching zu ein
 em schattigen\, psychedelischen Klagemarsch anschwillt. Selbst das instrum
 entale Ex Voto summt mit spiritueller Schwere.\n\nProduzent Tobias Fröber
 g konzentrierte sich mittels Reverb auf Kjellvanders Stimme und das Gewich
 t seiner Worte\, um dem Album eine hyper-reale Qualität zu verleihen. Der
  Klang unterscheidet sich von den vorhergegangenen Alben\, ebenso wie der 
 Aufnahmeprozess – nur Musiker*innen in einem Raum\, die sich in das Schw
 eigen zwischen den Klängen hineinlehnen. Das Ergebnis bezeugt eine starke
  Präsenz: atmosphärisch\, ungeschützt und emotional resonant.\n\nEx Vot
 o / The Silent Love ist ein Album\, das Geduld inspiriert. Es ist nicht zu
 m Konsumieren gemacht\, sondern zum Verweilen\, wie ein langes Gespräch\,
  das bis spät in die Nacht geht.\nInfos:&nbsp\;https://www.tapeterecords.
 de/artists/christian-kjellvander\nTickets:&nbsp\;https://www.tixforgigs.co
 m/de-DE/Locati
ATTACH;FMTTYPE=image/jpeg:https://hamburg-internet.de/wp-content/uploads/2
 026/02/ruediger-scaled-e1771935442786.jpg
CATEGORIES:Live-Konzerte
LOCATION:Nachtasyl  (ex-Zentrale)\, Alstertor 1\, Hamburg\, 20095\, Deutsch
 land
X-APPLE-STRUCTURED-LOCATION;VALUE=URI;X-ADDRESS=Alstertor 1\, Hamburg\, 200
 95\, Deutschland;X-APPLE-RADIUS=100;X-TITLE=Nachtasyl  (ex-Zentrale):geo:0
 ,0
END:VEVENT
BEGIN:VTIMEZONE
TZID:Europe/Berlin
X-LIC-LOCATION:Europe/Berlin
BEGIN:STANDARD
DTSTART:20251026T020000
TZOFFSETFROM:+0200
TZOFFSETTO:+0100
TZNAME:CET
END:STANDARD
END:VTIMEZONE
END:VCALENDAR