BEGIN:VCALENDAR
VERSION:2.0
PRODID:-//wp-events-plugin.com//7.2.3.1//EN
BEGIN:VEVENT
UID:7312@hamburg-internet.de
DTSTART:20260303T180000Z
DTEND:20260303T224500Z
DTSTAMP:20260221T090647Z
URL:https://hamburg-internet.de/events/hot-mulligan
SUMMARY:Hot Mulligan
DESCRIPTION:[caption id="attachment_57409" align="alignnone" width="1000"] 
 Foto: Kay Dargen[/caption]\n\nHOT MULLIGAN ist ein kompromissloses Beispie
 l dafür\, sich selbst treu zu bleiben. Als sich die Emo-Band 2014 gründe
 te und ihre ersten Erfahrungen bei House-Shows sammelte und Songs mit gesc
 hlossenen Augen und der Autokorrektur ihrer Handys benannte\, hätte niema
 nd erwartet\, dass sie zehn Jahre später Hallen vor Tausenden von Zuschau
 ern ausverkaufen und zu den angesehensten Bands ihrer Szene gehören würd
 en. Doch während Hot Mulligan ihr phänomenales viertes Album THE SOUND A
  BODY MAKES WHEN IT’S STILL (Wax Bodega) vorbereiten\, sind sie genau da
  angekommen. Hot Mulligan ist eine durchschlagende Erfolgsgeschichte\, die
  Nr. 1 der angesagtesten neuen Bands (11 Jahre in Folge\, fragen Sie sie e
 infach) und bereit\, weiter für die gute Sache zu kämpfen.\n\n„Ich ken
 ne niemanden\, der bei klarem Verstand ist und sagt: ‚Ich will Musiker w
 erden\, Geld verdienen\, keinen Job haben und trotzdem ein gutes Leben fü
 hren‘“\, scherzt Gitarrist Chris Freeman und denkt an die Gründungsja
 hre der Band in Michigans Upper Peninsula und später in der Universitäts
 stadt Lansing zurück. „Der Traum war\, in einem beschissenen Keller zu 
 spielen\, in einem Van zu leben\, eklig zu sein\, auf Pommes zu schlafen u
 nd Städte zu besuchen\, in denen man noch nie war.“\n\nSeit Hot Mulliga
 n mit ihrem Album „Pilot“ (2018) bekannt wurden\, wurden sie in Paste 
 und Alternative Press gelobt\, über 140 Millionen Mal auf Spotify gestrea
 mt und tourten mit klanglichen Vorreitern wie The Wonder Years und Jimmy E
 at World. Für Hot Mulligan – Sänger Tades Sanville\, die Gitarristen F
 reeman und Ryan Malicsi\, Bassist Jonah Kramer und Schlagzeuger Brandon Bl
 akeley – ist die neue LP eine leidenschaftliche Bestätigung all dessen\
 , wofür sie stehen.\n\nSupports: Delta Sleep\, Catapults
ATTACH;FMTTYPE=image/jpeg:https://hamburg-internet.de/wp-content/uploads/2
 026/02/hot-mulligan-credit-kay-dargen-2-noindex-e1771664789431.jpg
CATEGORIES:Live-Konzerte
LOCATION:Fabrik\, Barnerstr. 36\, Hamburg\, Hamburg\, 22765\, Deutschland
X-APPLE-STRUCTURED-LOCATION;VALUE=URI;X-ADDRESS=Barnerstr. 36\, Hamburg\, H
 amburg\, 22765\, Deutschland;X-APPLE-RADIUS=100;X-TITLE=Fabrik:geo:0,0
END:VEVENT
END:VCALENDAR