BEGIN:VCALENDAR
VERSION:2.0
PRODID:-//wp-events-plugin.com//7.2.3.1//EN
BEGIN:VEVENT
UID:7316@hamburg-internet.de
DTSTART:20260314T180000Z
DTEND:20260314T224500Z
DTSTAMP:20260221T092014Z
URL:https://hamburg-internet.de/events/irish-heartbeat-lets-celebrate-st-p
 atricks-day
SUMMARY:Irish Heartbeat - Let´s Celebrate St. Patrick´s Day
DESCRIPTION:\n\n[caption id="attachment_57417" align="alignnone" width="100
 0"] Foto: Colin Gillen[/caption]\n\nDie Iren haben bekanntlich ein großes
  Herz – ein Herz voll von Geselligkeit\, Witz und Leidenschaft. All das 
 sind ausgezeichnete Voraussetzungen\, um ein Land zu sein\, das immer wied
 er beeindruckende Geschichtenerzähler*innen\, Tänzer*innen\, Sänger*inn
 en und Musiker*innen hervorbringt. Der Herzschlag der irischen Nation erh
 öht sich immer deutlich rund um die tollen Tage\, wenn der St. Patrick's 
 Day gefeiert wird. Am irischen Nationalfeiertag hat irische Kultur Hochkon
 junktur. Insbesondere Irish Folk lässt die Herzen der Ir*innen höher sch
 lagen. Aber nicht nur die der Ir*innen...\n›Irish Heartbeat‹ ist eine 
 Tournee\, die die Hand am Puls der irischen Musikszene hat. Es bringt seit
  mehr als 30 Jahren sowohl ihre traditionellen als auch innovativen Elemen
 te auf Tour. Insbesondere rund um den St. Patrick's Day steigt das Zusamme
 ngehörigkeitsgefühl der Ir*innen und ihrer Freund*innen – egal wo sie 
 sein mögen – ganz besonders stark an. Man spürt die unsichtbaren Bande
 \, wie sie nur Kultur über den Erdball spannen kann.\n\nLine Up 2026:\n\n
  	Yann Honoré\n 	Eva Coyle &amp\; Band (Sean O’Dalaigh (Fiddle\, Gesang
 )\, Shanagher (Gitarre)\, Stephen Shanly (Drums))\n 	Billow Wood\n\n
ATTACH;FMTTYPE=image/jpeg:https://hamburg-internet.de/wp-content/uploads/2
 026/02/irish-e1771665562207.jpg
CATEGORIES:Live-Konzerte
LOCATION:Fabrik\, Barnerstr. 36\, Hamburg\, Hamburg\, 22765\, Deutschland
X-APPLE-STRUCTURED-LOCATION;VALUE=URI;X-ADDRESS=Barnerstr. 36\, Hamburg\, H
 amburg\, 22765\, Deutschland;X-APPLE-RADIUS=100;X-TITLE=Fabrik:geo:0,0
END:VEVENT
END:VCALENDAR