BEGIN:VCALENDAR
VERSION:2.0
PRODID:-//wp-events-plugin.com//7.2.3.1//EN
BEGIN:VEVENT
UID:7335@hamburg-internet.de
DTSTART;TZID=Europe/Berlin:20260426T190000
DTEND;TZID=Europe/Berlin:20260426T230000
DTSTAMP:20260422T171408Z
URL:https://hamburg-internet.de/events/jan-plewka-singt-rio-reiser
SUMMARY:Jan Plewka singt Rio Reiser
DESCRIPTION:
CATEGORIES:Live-Konzerte
LOCATION:Fabrik\, Barnerstr. 36\, Hamburg\, Hamburg\, 22765\, Deutschland
X-APPLE-STRUCTURED-LOCATION;VALUE=URI;X-ADDRESS=Barnerstr. 36\, Hamburg\, H
 amburg\, 22765\, Deutschland;X-APPLE-RADIUS=100;X-TITLE=Fabrik:geo:0,0
END:VEVENT
BEGIN:VTIMEZONE
TZID:Europe/Berlin
X-LIC-LOCATION:Europe/Berlin
BEGIN:DAYLIGHT
DTSTART:20260329T030000
TZOFFSETFROM:+0100
TZOFFSETTO:+0200
TZNAME:CEST
END:DAYLIGHT
END:VTIMEZONE
END:VCALENDAR