BEGIN:VCALENDAR
VERSION:2.0
PRODID:-//wp-events-plugin.com//7.2.3.1//EN
BEGIN:VEVENT
UID:7315@hamburg-internet.de
DTSTART:20260313T180000Z
DTEND:20260313T224500Z
DTSTAMP:20260221T091614Z
URL:https://hamburg-internet.de/events/marc-broussard
SUMMARY:Marc Broussard
DESCRIPTION:[caption id="attachment_57415" align="alignnone" width="1000"] 
 Foto: Katherine Kwan[/caption]\n\nDer gefeierte Soul-Sänger und Songwrite
 r Marc Broussard kehrt mit seinem neuen Studioalbum S.O.S. V: Songs of the
  ’50s zurück und verneigt sich vor den unvergänglichen Klassikern der 
 1950er Jahre. Mit seiner unverkennbaren\, warmen Soul-Stimme interpretiert
  Broussard zeitlose Songs von Legenden wie Ray Charles\, Sam Cooke\, Nat K
 ing Cole und Fats Domino – ergänzt durch ein eigenes Original\, das sic
 h nahtlos in die Ära einfügt. Das Album ist das fünfte Kapitel seiner e
 rfolgreichen Benefizreihe S.O.S. (Save Our Soul)\, deren Erlöse erneut de
 r Non-Profit-Organisation Love of People in seiner Heimat Lafayette\, Loui
 siana\, zugutekommen.\n\nDie erste Single\, Broussards gefühlvolle Neuint
 erpretation von Bobby Darins „Dream Lover“\, ist bereits erschienen un
 d zeigt eindrucksvoll seine Fähigkeit\, klassische Musik mit moderner See
 le zu verbinden. Unterstützt von hochkarätigen Gästen wie Delbert McCli
 nton und Jimmy Hall präsentiert Broussard ein authentisches\, leidenschaf
 tliches Werk\, das die Magie der Fünfziger mit seinem charakteristischen\
 , modernen Sound vereint.\n„Dream Lover“ ist seit dem 31.10.25 als Str
 eam/Download verfügbar.\n\nSein letztes Charity Album S.O.S. 4: Blues For
  Your Soul (2023)\, eine Zusammenarbeit mit Blues-Ikone Joe Bonamassa\, ka
 m der Keeping The Blues Alive Foundation und der Organisation Guitars Over
  Guns zugute – und debütierte auf Platz 1 der Billboard Blues Albums Ch
 arts. Naheliegend\, dass Marc Broussard einer der Protagonisten auf dem BB
  King Tribute Album ist \, das durch Joe Bonamassa kuratiert wurde\, mit d
 em er dann im April 2026 ein weiteres gemeinsames Blues / Soul Album verö
 ffentlicht. Und mittendrin kann man den Ausnahmesänger bei uns auch wiede
 r live erleben\, auf seiner bisher grössten Tour. Keine Frage\, es werden
  schweißtreibende Nächte voller Bayou Soul und dann wohl auch ergänzt m
 it einem Schuss Rock’n Roll\, wie man eindrucksvoll bei seinem kürzlich
 en Auftritt in Ina’s Nacht in der ARD erleben durfte !!!
ATTACH;FMTTYPE=image/jpeg:https://hamburg-internet.de/wp-content/uploads/2
 026/02/marc-e1771665337732.jpg
CATEGORIES:Live-Konzerte
LOCATION:Fabrik\, Barnerstr. 36\, Hamburg\, Hamburg\, 22765\, Deutschland
X-APPLE-STRUCTURED-LOCATION;VALUE=URI;X-ADDRESS=Barnerstr. 36\, Hamburg\, H
 amburg\, 22765\, Deutschland;X-APPLE-RADIUS=100;X-TITLE=Fabrik:geo:0,0
END:VEVENT
END:VCALENDAR