BEGIN:VCALENDAR
VERSION:2.0
PRODID:-//wp-events-plugin.com//7.2.3.1//EN
BEGIN:VEVENT
UID:7334@hamburg-internet.de
DTSTART;TZID=Europe/Berlin:20260423T190000
DTEND;TZID=Europe/Berlin:20260423T220000
DTSTAMP:20260422T171224Z
URL:https://hamburg-internet.de/events/mundstuhl
SUMMARY:Mundstuhl
DESCRIPTION:\nMUNDSTUHL präsentieren mit “WIR KOMMEN!” ihr brandneues 
 und unfassbar lustiges Programm mit einhundertprozentiger Lachtränengaran
 tie!\n\nDass MUNDSTUHL nach fast 30 Jahren immer noch zur Speerspitze der 
 deutschen Live-Komiker gehören\, hat einen einfachen Grund: Sie sind schl
 ichtweg sauwitzig. Und im neuen Programm “WIR KOMMEN!” packen die beid
 en Kultkomiker tatsächlich noch eine Schippe drauf und erreichen eine sch
 ier unglaubliche Pointendichte. Frisch\, schnell und topaktuell.\n\nLars N
 iedereichholz und Ande Werner gelten als wandelbarstes und erfolgreichstes
  Comedyduo Deutschlands und haben nagelneue Geschichten ihrer legendären 
 Bühnenfiguren im Gepäck.\n\nDie ostdeutschen Bürgergeld-Ikonen Peggy un
 d Sandy\, der cholerische Andi\, die Erfinder der Kanakcomedy Dragan und A
 lder\, die drucklosen Umweltaktivisten Torben und Malte von No Pressure\, 
 der verrückte Grillschorsch\, die schlechtesten Zauberer der Welt Sickroy
  und Fried und viele weitere zum Brüllen komische Charaktere geben sich d
 ie Klinke in die Hand. “Wir kommen!” ist MUNDSTUHL pur!\n\nSatirische 
 Spitzen\, die pure Lust am Blödsinn und ansteckende Spielfreude sind die 
 Geheimzutaten des neuen Programms und natürlich nehmen die seit Jahren of
 fen heterosexuell lebenden Ausnahmekomiker auch in Zeiten stets erhobener 
 Zeigefinger kein Blatt vor den Mund. Sie sind der Fels in der Brandung hum
 oristischer Horizonterweiterung. Triggerwarnung: Der Humor von MUNDSTUHL k
 ann von manchen Menschen als zu lustig empfunden werden.\n\nFoto: Presse M
 undstuhl
ATTACH;FMTTYPE=image/jpeg:https://hamburg-internet.de/wp-content/uploads/2
 026/04/mund-e1776877914668.jpg
CATEGORIES:Live-Konzerte,Theater
LOCATION:Fabrik\, Barnerstr. 36\, Hamburg\, Hamburg\, 22765\, Deutschland
X-APPLE-STRUCTURED-LOCATION;VALUE=URI;X-ADDRESS=Barnerstr. 36\, Hamburg\, H
 amburg\, 22765\, Deutschland;X-APPLE-RADIUS=100;X-TITLE=Fabrik:geo:0,0
END:VEVENT
BEGIN:VTIMEZONE
TZID:Europe/Berlin
X-LIC-LOCATION:Europe/Berlin
BEGIN:DAYLIGHT
DTSTART:20260329T030000
TZOFFSETFROM:+0100
TZOFFSETTO:+0200
TZNAME:CEST
END:DAYLIGHT
END:VTIMEZONE
END:VCALENDAR