BEGIN:VCALENDAR
VERSION:2.0
PRODID:-//wp-events-plugin.com//7.2.3.1//EN
BEGIN:VEVENT
UID:7333@hamburg-internet.de
DTSTART;TZID=Europe/Berlin:20260428T200000
DTEND;TZID=Europe/Berlin:20260428T223000
DTSTAMP:20260421T143109Z
URL:https://hamburg-internet.de/events/otto-von-bismarck-staatsakt-support
 -zackiboy
SUMMARY:Otto von Bismarck (Staatsakt)  support: Zackiboy
DESCRIPTION:\n\nOTTO VON BISMARCK\nNach dem herausragenden Debüt-Album "Zu
  viele Erinnerungen" (2022) kehrt der Berliner Musiker Otto Von Bismarck 2
 025 mit einem neuen Album zurück auf die Bretter und Online-Portale\, die
  uns die Welt bedeuten. Mit seinen zärtlichen Soul- und Folk-Songs - irge
 ndwo in einer Welt zwischen Lambchop\, Sly Stone\, Laura Nyro und Die Regi
 erung - erzählt er uns neue Geschichten aus der Hauptstadt der Schmerzen.
  Romanzen von früher\, Lieben im heute\, die Fragen von Morgen. Wieder zu
 sammen aufgenommen und produziert mit Daniel Nentwig (The Whitest Boy Aliv
 e) in den legendären Butterama-Studios in Berlin\, besteht nun auch der d
 ringende Wunsch\, endlich mit dem reichhaltigen Repertoire auf Tour zu geh
 en.\n\nFoto: gabriele-summen
ATTACH;FMTTYPE=image/jpeg:https://hamburg-internet.de/wp-content/uploads/2
 026/04/c-2024.jpg
CATEGORIES:Live-Konzerte
LOCATION:Nachtasyl  (ex-Zentrale)\, Alstertor 1\, Hamburg\, 20095\, Deutsch
 land
X-APPLE-STRUCTURED-LOCATION;VALUE=URI;X-ADDRESS=Alstertor 1\, Hamburg\, 200
 95\, Deutschland;X-APPLE-RADIUS=100;X-TITLE=Nachtasyl  (ex-Zentrale):geo:0
 ,0
END:VEVENT
BEGIN:VTIMEZONE
TZID:Europe/Berlin
X-LIC-LOCATION:Europe/Berlin
BEGIN:DAYLIGHT
DTSTART:20260329T030000
TZOFFSETFROM:+0100
TZOFFSETTO:+0200
TZNAME:CEST
END:DAYLIGHT
END:VTIMEZONE
END:VCALENDAR