BEGIN:VCALENDAR
VERSION:2.0
PRODID:-//wp-events-plugin.com//7.2.3.1//EN
BEGIN:VEVENT
UID:7313@hamburg-internet.de
DTSTART:20260305T180000Z
DTEND:20260305T224500Z
DTSTAMP:20260221T091051Z
URL:https://hamburg-internet.de/events/the-paper-kites
SUMMARY:The Paper Kites
DESCRIPTION:\n\n\n\nNur wenige Bands schaffen es\, für nahezu jede Lebensl
 age den perfekten Soundtrack zu liefern – sei es der einsame Heimweg nac
 h einer langen Nacht\, der große Moment auf einer Hochzeit\, oder der ers
 te Tag eines unvergesslichen Urlaubs. The Paper Kites sind genau so eine B
 and. Ihre Entstehungsgeschichte klingt fast wie aus einem Roman: Fünf eng
 e Schulfreunde\, die aus reinem Spaß eine Band gründen – und nun seit 
 über zehn Jahren gemeinsam um die Welt reisen und Konzerte spielen. Den A
 nfang machten Sänger und Gitarrist Sam Bentley und Keyboarderin Christina
  Lacy\, die schon während ihrer Schulzeit in Melbourne erste Songs schrie
 ben. Schon bald stießen Gitarrist David Powys\, Bassist Samuel Rasmussen 
 und Schlagzeuger Josh Bentley hinzu.\n\nNun steht bereits das nächste Kap
 itel bevor: Im Januar erscheint ihr siebtes Album „If You Go There\, I H
 ope You Find It“. Aufgenommen in den legendären Sing Sing Studios in Me
 lbourne und produziert von Grammy-Preisträger Jon Low\, überzeugt es mit
  intimer\, reflektierter Stimmung. Jeder Song wirkt wie ein leises Gesprä
 ch\, das Geborgenheit schenkt\, während die Band zugleich ihrem atmosphä
 rischen Sound treu bleibt.\n\nWer dieses Album hört\, spürt die unvergle
 ichliche Spannung und Nähe\, die sie live erzeugen – ihr erklärtes Zie
 l ist es stets\, das Publikum in ihr musikalisches Zuhause einzuladen. Beg
 leitend zum neuen Album gehen The Paper Kites 2026 auf große Europa- und 
 UK-Tour\, im Rahmen derer sie für drei exklusive Konzerte nach Deutschlan
 d zurückkehren. Unterstützt werden sie dabei von der britischen Indie-Fo
 lk-Sängerin Bess Atwell. Die perfekte Kombination für magische Nächte!\
 n\nSpecial Guest: Bess Atwell\n\n
ATTACH;FMTTYPE=image/jpeg:https://hamburg-internet.de/wp-content/uploads/2
 026/02/fabrik.jpg
CATEGORIES:Live-Konzerte
LOCATION:Fabrik\, Barnerstr. 36\, Hamburg\, Hamburg\, 22765\, Deutschland
X-APPLE-STRUCTURED-LOCATION;VALUE=URI;X-ADDRESS=Barnerstr. 36\, Hamburg\, H
 amburg\, 22765\, Deutschland;X-APPLE-RADIUS=100;X-TITLE=Fabrik:geo:0,0
END:VEVENT
END:VCALENDAR