BEGIN:VCALENDAR
VERSION:2.0
PRODID:-//wp-events-plugin.com//7.2.3.1//EN
BEGIN:VEVENT
UID:7336@hamburg-internet.de
DTSTART;TZID=Europe/Berlin:20260430T200000
DTEND;TZID=Europe/Berlin:20260501T030000
DTSTAMP:20260422T171632Z
URL:https://hamburg-internet.de/events/ue3040-tanz-in-den-mai-party
SUMMARY:Ü30/40 Tanz in den Mai Party
DESCRIPTION:\n\nder mai steht vor der tür und zusammen mit euch wollen wir
  den 5.monat mit einer großartigen partynacht begrüßen...\n\nmusik: cla
 ssics\, house\, charts – dj udo zoll\n\ngästemix: ü30 &amp\; ü40\, qu
 erbeet\, entspannt und tanzfreudig!\n\nmotto: tanzt und flirtet in den mai
 !
ATTACH;FMTTYPE=image/jpeg:https://hamburg-internet.de/wp-content/uploads/2
 026/04/hhs-g-e1776878161189.jpg
CATEGORIES:Partys
LOCATION:Fabrik\, Barnerstr. 36\, Hamburg\, Hamburg\, 22765\, Deutschland
X-APPLE-STRUCTURED-LOCATION;VALUE=URI;X-ADDRESS=Barnerstr. 36\, Hamburg\, H
 amburg\, 22765\, Deutschland;X-APPLE-RADIUS=100;X-TITLE=Fabrik:geo:0,0
END:VEVENT
BEGIN:VTIMEZONE
TZID:Europe/Berlin
X-LIC-LOCATION:Europe/Berlin
BEGIN:DAYLIGHT
DTSTART:20260329T030000
TZOFFSETFROM:+0100
TZOFFSETTO:+0200
TZNAME:CEST
END:DAYLIGHT
END:VTIMEZONE
END:VCALENDAR